BEGIN:VCALENDAR
VERSION:2.0
PRODID:-//Cimsoft - ECPv6.15.18//NONSGML v1.0//EN
CALSCALE:GREGORIAN
METHOD:PUBLISH
X-ORIGINAL-URL:https://cimsoft.com
X-WR-CALDESC:Events for Cimsoft
REFRESH-INTERVAL;VALUE=DURATION:PT1H
X-Robots-Tag:noindex
X-PUBLISHED-TTL:PT1H
BEGIN:VTIMEZONE
TZID:UTC
BEGIN:STANDARD
TZOFFSETFROM:+0000
TZOFFSETTO:+0000
TZNAME:UTC
DTSTART:20250101T000000
END:STANDARD
END:VTIMEZONE
BEGIN:VEVENT
DTSTART;TZID=UTC:20260723T083000
DTEND;TZID=UTC:20260728T170000
DTSTAMP:20260421T101132
CREATED:20260105T224446Z
LAST-MODIFIED:20260107T200146Z
UID:6027-1784795400-1785258000@cimsoft.com
SUMMARY:Plant SCADA
DESCRIPTION:
URL:https://cimsoft.com/webinar/20260723_plant_scada/
LOCATION:Online\, Canada
CATEGORIES:Training
END:VEVENT
END:VCALENDAR