BEGIN:VCALENDAR
VERSION:2.0
PRODID:-//Cimsoft - ECPv6.15.18//NONSGML v1.0//EN
CALSCALE:GREGORIAN
METHOD:PUBLISH
X-ORIGINAL-URL:https://cimsoft.com
X-WR-CALDESC:Events for Cimsoft
REFRESH-INTERVAL;VALUE=DURATION:PT1H
X-Robots-Tag:noindex
X-PUBLISHED-TTL:PT1H
BEGIN:VTIMEZONE
TZID:UTC
BEGIN:STANDARD
TZOFFSETFROM:+0000
TZOFFSETTO:+0000
TZNAME:UTC
DTSTART:20250101T000000
END:STANDARD
END:VTIMEZONE
BEGIN:VEVENT
DTSTART;TZID=UTC:20260818T083000
DTEND;TZID=UTC:20260821T170000
DTSTAMP:20260421T115309
CREATED:20260105T224230Z
LAST-MODIFIED:20260105T224230Z
UID:6021-1787041800-1787331600@cimsoft.com
SUMMARY:Operations Management Interface
DESCRIPTION:
URL:https://cimsoft.com/webinar/20260818_omi/
LOCATION:Online\, Canada
CATEGORIES:Training
END:VEVENT
END:VCALENDAR