BEGIN:VCALENDAR
VERSION:2.0
PRODID:-//Cimsoft - ECPv6.15.18//NONSGML v1.0//EN
CALSCALE:GREGORIAN
METHOD:PUBLISH
X-WR-CALNAME:Cimsoft
X-ORIGINAL-URL:https://cimsoft.com
X-WR-CALDESC:Events for Cimsoft
REFRESH-INTERVAL;VALUE=DURATION:PT1H
X-Robots-Tag:noindex
X-PUBLISHED-TTL:PT1H
BEGIN:VTIMEZONE
TZID:UTC
BEGIN:STANDARD
TZOFFSETFROM:+0000
TZOFFSETTO:+0000
TZNAME:UTC
DTSTART:20250101T000000
END:STANDARD
END:VTIMEZONE
BEGIN:VEVENT
DTSTART;TZID=UTC:20261020T083000
DTEND;TZID=UTC:20261023T170000
DTSTAMP:20260421T152355
CREATED:20260105T222728Z
LAST-MODIFIED:20260107T201548Z
UID:5989-1792485000-1792774800@cimsoft.com
SUMMARY:InTouch HMI (Standard Edition)
DESCRIPTION:
URL:https://cimsoft.com/webinar/20261020_intouch_hmi/
LOCATION:Online\, Canada
CATEGORIES:Training
END:VEVENT
BEGIN:VEVENT
DTSTART;TZID=UTC:20261020T083000
DTEND;TZID=UTC:20261023T170000
DTSTAMP:20260421T152355
CREATED:20260105T224333Z
LAST-MODIFIED:20260105T224333Z
UID:6023-1792485000-1792774800@cimsoft.com
SUMMARY:Operations Management Interface
DESCRIPTION:
URL:https://cimsoft.com/webinar/20261020_omi/
LOCATION:Online\, Canada
CATEGORIES:Training
END:VEVENT
END:VCALENDAR