BEGIN:VCALENDAR
VERSION:2.0
PRODID:-//Cimsoft - ECPv6.15.18//NONSGML v1.0//EN
CALSCALE:GREGORIAN
METHOD:PUBLISH
X-ORIGINAL-URL:https://cimsoft.com
X-WR-CALDESC:Events for Cimsoft
REFRESH-INTERVAL;VALUE=DURATION:PT1H
X-Robots-Tag:noindex
X-PUBLISHED-TTL:PT1H
BEGIN:VTIMEZONE
TZID:UTC
BEGIN:STANDARD
TZOFFSETFROM:+0000
TZOFFSETTO:+0000
TZNAME:UTC
DTSTART:20250101T000000
END:STANDARD
END:VTIMEZONE
BEGIN:VEVENT
DTSTART;TZID=UTC:20261117T083000
DTEND;TZID=UTC:20261120T170000
DTSTAMP:20260421T192358
CREATED:20260105T223606Z
LAST-MODIFIED:20260105T223606Z
UID:6009-1794904200-1795194000@cimsoft.com
SUMMARY:InTouch for System Platform
DESCRIPTION:
URL:https://cimsoft.com/webinar/20261117_intouch_sp/
LOCATION:Online\, Canada
CATEGORIES:Training
END:VEVENT
BEGIN:VEVENT
DTSTART;TZID=UTC:20261124T083000
DTEND;TZID=UTC:20261125T170000
DTSTAMP:20260421T192358
CREATED:20260105T214408Z
LAST-MODIFIED:20260107T201357Z
UID:5937-1795509000-1795626000@cimsoft.com
SUMMARY:AVEVA Communications
DESCRIPTION:
URL:https://cimsoft.com/webinar/20261124_communications/
LOCATION:Online\, Canada
CATEGORIES:Training
END:VEVENT
BEGIN:VEVENT
DTSTART;TZID=UTC:20261203T083000
DTEND;TZID=UTC:20261208T170000
DTSTAMP:20260421T192358
CREATED:20260105T222823Z
LAST-MODIFIED:20260107T201530Z
UID:5993-1796286600-1796749200@cimsoft.com
SUMMARY:InTouch HMI (Standard Edition)
DESCRIPTION:
URL:https://cimsoft.com/webinar/20261203_intouch_hmi/
LOCATION:Online\, Canada
CATEGORIES:Training
END:VEVENT
BEGIN:VEVENT
DTSTART;TZID=UTC:20261208T083000
DTEND;TZID=UTC:20261211T170000
DTSTAMP:20260421T192358
CREATED:20260105T210242Z
LAST-MODIFIED:20260105T210242Z
UID:5925-1796718600-1797008400@cimsoft.com
SUMMARY:AVEVA Application Server
DESCRIPTION:
URL:https://cimsoft.com/webinar/20261208_app_server/
LOCATION:Online\, Canada
CATEGORIES:Training
END:VEVENT
BEGIN:VEVENT
DTSTART;TZID=UTC:20261215T083000
DTEND;TZID=UTC:20261218T170000
DTSTAMP:20260421T192358
CREATED:20260105T224402Z
LAST-MODIFIED:20260105T224402Z
UID:6025-1797323400-1797613200@cimsoft.com
SUMMARY:Operations Management Interface
DESCRIPTION:
URL:https://cimsoft.com/webinar/20261215_omi/
LOCATION:Online\, Canada
CATEGORIES:Training
END:VEVENT
END:VCALENDAR