BEGIN:VCALENDAR
VERSION:2.0
PRODID:-//Cimsoft - ECPv6.15.18//NONSGML v1.0//EN
CALSCALE:GREGORIAN
METHOD:PUBLISH
X-WR-CALNAME:Cimsoft
X-ORIGINAL-URL:https://cimsoft.com
X-WR-CALDESC:Events for Cimsoft
REFRESH-INTERVAL;VALUE=DURATION:PT1H
X-Robots-Tag:noindex
X-PUBLISHED-TTL:PT1H
BEGIN:VTIMEZONE
TZID:UTC
BEGIN:STANDARD
TZOFFSETFROM:+0000
TZOFFSETTO:+0000
TZNAME:UTC
DTSTART:20250101T000000
END:STANDARD
END:VTIMEZONE
BEGIN:VEVENT
DTSTART;TZID=UTC:20260609T083000
DTEND;TZID=UTC:20260612T170000
DTSTAMP:20260421T165518
CREATED:20260105T205809Z
LAST-MODIFIED:20260105T205809Z
UID:5905-1780993800-1781283600@cimsoft.com
SUMMARY:AVEVA Application Server
DESCRIPTION:
URL:https://cimsoft.com/webinar/20260609_app_server/
LOCATION:Online\, Canada
CATEGORIES:Training
END:VEVENT
BEGIN:VEVENT
DTSTART;TZID=UTC:20260609T083000
DTEND;TZID=UTC:20260612T170000
DTSTAMP:20260421T165518
CREATED:20260105T224154Z
LAST-MODIFIED:20260324T191554Z
UID:6019-1780993800-1781283600@cimsoft.com
SUMMARY:Operations Management Interface
DESCRIPTION:
URL:https://cimsoft.com/webinar/20260609_omi/
LOCATION:Online\, Canada
CATEGORIES:Training
END:VEVENT
BEGIN:VEVENT
DTSTART;TZID=UTC:20260611T080000
DTEND;TZID=UTC:20260611T160000
DTSTAMP:20260421T165518
CREATED:20260319T193400Z
LAST-MODIFIED:20260319T193522Z
UID:6407-1781164800-1781193600@cimsoft.com
SUMMARY:CimsofTech 2026 | Mississauga\, ON
DESCRIPTION:
URL:https://cimsoft.com/webinar/cimsoftech-mississauga-2026/
LOCATION:Courtyard by Marriott Toronto Mississauga/West\, 290 Derry Rd W\, Mississauga\, Ontario\, L5W 1N6\, Canada
CATEGORIES:Events
ORGANIZER;CN="Cimsoft":MAILTO:marketing@cimsoftcorp.ca
END:VEVENT
BEGIN:VEVENT
DTSTART;TZID=UTC:20260611T120000
DTEND;TZID=UTC:20260611T150000
DTSTAMP:20260421T165518
CREATED:20260330T135128Z
LAST-MODIFIED:20260330T135128Z
UID:6432-1781179200-1781190000@cimsoft.com
SUMMARY:Easily Create and Share Reports with AVEVA Reports Workshop
DESCRIPTION:
URL:https://cimsoft.com/webinar/2026_06_11_workshop/
LOCATION:Online\, Canada
CATEGORIES:Workshop
END:VEVENT
BEGIN:VEVENT
DTSTART;TZID=UTC:20260616T083000
DTEND;TZID=UTC:20260619T170000
DTSTAMP:20260421T165518
CREATED:20260105T222329Z
LAST-MODIFIED:20260107T201624Z
UID:5979-1781598600-1781888400@cimsoft.com
SUMMARY:InTouch HMI (Standard Edition)
DESCRIPTION:
URL:https://cimsoft.com/webinar/20260616_intouch_hmi/
LOCATION:Online\, Canada
CATEGORIES:Training
END:VEVENT
BEGIN:VEVENT
DTSTART;TZID=UTC:20260623T083000
DTEND;TZID=UTC:20260626T170000
DTSTAMP:20260421T165518
CREATED:20260105T205840Z
LAST-MODIFIED:20260105T205840Z
UID:5907-1782203400-1782493200@cimsoft.com
SUMMARY:AVEVA Application Server
DESCRIPTION:
URL:https://cimsoft.com/webinar/20260623_app_server/
LOCATION:Online\, Canada
CATEGORIES:Training
END:VEVENT
BEGIN:VEVENT
DTSTART;TZID=UTC:20260625T120000
DTEND;TZID=UTC:20260625T150000
DTSTAMP:20260421T165518
CREATED:20260330T140917Z
LAST-MODIFIED:20260402T151356Z
UID:6435-1782388800-1782399600@cimsoft.com
SUMMARY:Operations Management Interface (OMI) Workshop
DESCRIPTION:
URL:https://cimsoft.com/webinar/2026_06_25_workshop/
LOCATION:Online\, Canada
CATEGORIES:Workshop
END:VEVENT
BEGIN:VEVENT
DTSTART;TZID=UTC:20260630T083000
DTEND;TZID=UTC:20260703T170000
DTSTAMP:20260421T165518
CREATED:20260105T223940Z
LAST-MODIFIED:20260105T223940Z
UID:6015-1782808200-1783098000@cimsoft.com
SUMMARY:MES Performance
DESCRIPTION:
URL:https://cimsoft.com/webinar/20260630_mes_performance/
LOCATION:Online\, Canada
CATEGORIES:Training
END:VEVENT
BEGIN:VEVENT
DTSTART;TZID=UTC:20260707T083000
DTEND;TZID=UTC:20260710T170000
DTSTAMP:20260421T165518
CREATED:20260105T223503Z
LAST-MODIFIED:20260105T223503Z
UID:6005-1783413000-1783702800@cimsoft.com
SUMMARY:InTouch for System Platform
DESCRIPTION:
URL:https://cimsoft.com/webinar/20260707_intouch_sp/
LOCATION:Online\, Canada
CATEGORIES:Training
END:VEVENT
BEGIN:VEVENT
DTSTART;TZID=UTC:20260708T080000
DTEND;TZID=UTC:20260710T170000
DTSTAMP:20260421T165518
CREATED:20260105T213244Z
LAST-MODIFIED:20260105T214054Z
UID:5928-1783497600-1783702800@cimsoft.com
SUMMARY:AVEVA Reports
DESCRIPTION:
URL:https://cimsoft.com/webinar/20260708_aveva_reports/
LOCATION:Online\, Canada
CATEGORIES:Training
END:VEVENT
BEGIN:VEVENT
DTSTART;TZID=UTC:20260709T083000
DTEND;TZID=UTC:20260714T170000
DTSTAMP:20260421T165518
CREATED:20260105T222359Z
LAST-MODIFIED:20260107T201615Z
UID:5981-1783585800-1784048400@cimsoft.com
SUMMARY:InTouch HMI (Standard Edition)
DESCRIPTION:
URL:https://cimsoft.com/webinar/20260709_intouch_hmi/
LOCATION:Online\, Canada
CATEGORIES:Training
END:VEVENT
BEGIN:VEVENT
DTSTART;TZID=UTC:20260714T083000
DTEND;TZID=UTC:20260717T170000
DTSTAMP:20260421T165518
CREATED:20260105T205910Z
LAST-MODIFIED:20260105T205910Z
UID:5909-1784017800-1784307600@cimsoft.com
SUMMARY:AVEVA Application Server
DESCRIPTION:
URL:https://cimsoft.com/webinar/20260714_app_server/
LOCATION:Online\, Canada
CATEGORIES:Training
END:VEVENT
BEGIN:VEVENT
DTSTART;TZID=UTC:20260721T083000
DTEND;TZID=UTC:20260724T170000
DTSTAMP:20260421T165518
CREATED:20260105T223902Z
LAST-MODIFIED:20260105T223902Z
UID:6013-1784622600-1784912400@cimsoft.com
SUMMARY:MES Operations
DESCRIPTION:
URL:https://cimsoft.com/webinar/20260721_mes_operations/
LOCATION:Online\, Canada
CATEGORIES:Training
END:VEVENT
BEGIN:VEVENT
DTSTART;TZID=UTC:20260723T083000
DTEND;TZID=UTC:20260728T170000
DTSTAMP:20260421T165518
CREATED:20260105T224446Z
LAST-MODIFIED:20260107T200146Z
UID:6027-1784795400-1785258000@cimsoft.com
SUMMARY:Plant SCADA
DESCRIPTION:
URL:https://cimsoft.com/webinar/20260723_plant_scada/
LOCATION:Online\, Canada
CATEGORIES:Training
END:VEVENT
BEGIN:VEVENT
DTSTART;TZID=UTC:20260730T083000
DTEND;TZID=UTC:20260804T170000
DTSTAMP:20260421T165518
CREATED:20260105T220230Z
LAST-MODIFIED:20260107T200141Z
UID:5959-1785400200-1785862800@cimsoft.com
SUMMARY:AVEVA Historian
DESCRIPTION:
URL:https://cimsoft.com/webinar/20260730_historian/
LOCATION:Online\, Canada
CATEGORIES:Training
END:VEVENT
BEGIN:VEVENT
DTSTART;TZID=UTC:20260804T083000
DTEND;TZID=UTC:20260807T170000
DTSTAMP:20260421T165518
CREATED:20260105T222502Z
LAST-MODIFIED:20260107T201610Z
UID:5983-1785832200-1786122000@cimsoft.com
SUMMARY:InTouch HMI (Standard Edition)
DESCRIPTION:
URL:https://cimsoft.com/webinar/20260804_intouch_hmi/
LOCATION:Online\, Canada
CATEGORIES:Training
END:VEVENT
BEGIN:VEVENT
DTSTART;TZID=UTC:20260811T083000
DTEND;TZID=UTC:20260814T170000
DTSTAMP:20260421T165518
CREATED:20260105T205936Z
LAST-MODIFIED:20260105T205936Z
UID:5911-1786437000-1786726800@cimsoft.com
SUMMARY:AVEVA Application Server
DESCRIPTION:
URL:https://cimsoft.com/webinar/20260811_app_server/
LOCATION:Online\, Canada
CATEGORIES:Training
END:VEVENT
BEGIN:VEVENT
DTSTART;TZID=UTC:20260813T083000
DTEND;TZID=UTC:20260818T170000
DTSTAMP:20260421T165518
CREATED:20260105T214840Z
LAST-MODIFIED:20260107T200122Z
UID:5939-1786609800-1787072400@cimsoft.com
SUMMARY:AVEVA Edge - French
DESCRIPTION:
URL:https://cimsoft.com/webinar/20260813_edge_french/
LOCATION:Online\, Canada
CATEGORIES:Training
END:VEVENT
BEGIN:VEVENT
DTSTART;TZID=UTC:20260818T083000
DTEND;TZID=UTC:20260821T170000
DTSTAMP:20260421T165518
CREATED:20260105T224230Z
LAST-MODIFIED:20260105T224230Z
UID:6021-1787041800-1787331600@cimsoft.com
SUMMARY:Operations Management Interface
DESCRIPTION:
URL:https://cimsoft.com/webinar/20260818_omi/
LOCATION:Online\, Canada
CATEGORIES:Training
END:VEVENT
BEGIN:VEVENT
DTSTART;TZID=UTC:20260825T083000
DTEND;TZID=UTC:20260828T170000
DTSTAMP:20260421T165518
CREATED:20260105T210005Z
LAST-MODIFIED:20260105T210005Z
UID:5913-1787646600-1787936400@cimsoft.com
SUMMARY:AVEVA Application Server
DESCRIPTION:
URL:https://cimsoft.com/webinar/20260825_app_server/
LOCATION:Online\, Canada
CATEGORIES:Training
END:VEVENT
BEGIN:VEVENT
DTSTART;TZID=UTC:20260901T083000
DTEND;TZID=UTC:20260904T170000
DTSTAMP:20260421T165518
CREATED:20260105T222540Z
LAST-MODIFIED:20260107T201603Z
UID:5985-1788251400-1788541200@cimsoft.com
SUMMARY:InTouch HMI (Standard Edition)
DESCRIPTION:
URL:https://cimsoft.com/webinar/20260901_intouch_hmi/
LOCATION:Online\, Canada
CATEGORIES:Training
END:VEVENT
BEGIN:VEVENT
DTSTART;TZID=UTC:20260909T083000
DTEND;TZID=UTC:20260910T170000
DTSTAMP:20260421T165518
CREATED:20260105T214232Z
LAST-MODIFIED:20260107T201412Z
UID:5935-1788942600-1789059600@cimsoft.com
SUMMARY:AVEVA Communications
DESCRIPTION:
URL:https://cimsoft.com/webinar/20260909_communications/
LOCATION:Online\, Canada
CATEGORIES:Training
END:VEVENT
BEGIN:VEVENT
DTSTART;TZID=UTC:20260915T083000
DTEND;TZID=UTC:20260918T170000
DTSTAMP:20260421T165518
CREATED:20260105T210028Z
LAST-MODIFIED:20260105T210028Z
UID:5915-1789461000-1789750800@cimsoft.com
SUMMARY:AVEVA Application Server
DESCRIPTION:
URL:https://cimsoft.com/webinar/20260915_app_server/
LOCATION:Online\, Canada
CATEGORIES:Training
END:VEVENT
BEGIN:VEVENT
DTSTART;TZID=UTC:20260917T083000
DTEND;TZID=UTC:20260922T170000
DTSTAMP:20260421T165518
CREATED:20260105T223222Z
LAST-MODIFIED:20260107T200106Z
UID:5997-1789633800-1790096400@cimsoft.com
SUMMARY:InTouch HMI (Standard Edition) - French
DESCRIPTION:
URL:https://cimsoft.com/webinar/20260917_intouch_hmi_french/
LOCATION:Online\, Canada
CATEGORIES:Training
END:VEVENT
BEGIN:VEVENT
DTSTART;TZID=UTC:20260922T083000
DTEND;TZID=UTC:20260925T170000
DTSTAMP:20260421T165518
CREATED:20260105T223535Z
LAST-MODIFIED:20260105T223535Z
UID:6007-1790065800-1790355600@cimsoft.com
SUMMARY:InTouch for System Platform
DESCRIPTION:
URL:https://cimsoft.com/webinar/20260922_intouch_sp/
LOCATION:Online\, Canada
CATEGORIES:Training
END:VEVENT
BEGIN:VEVENT
DTSTART;TZID=UTC:20260924T083000
DTEND;TZID=UTC:20260929T170000
DTSTAMP:20260421T165518
CREATED:20251222T225156Z
LAST-MODIFIED:20260123T160401Z
UID:5888-1790238600-1790701200@cimsoft.com
SUMMARY:AVEVA Application Server - French
DESCRIPTION:
URL:https://cimsoft.com/webinar/20260924_app_server_french/
LOCATION:Online\, Canada
CATEGORIES:Training
END:VEVENT
BEGIN:VEVENT
DTSTART;TZID=UTC:20260929T083000
DTEND;TZID=UTC:20261002T170000
DTSTAMP:20260421T165518
CREATED:20260105T210052Z
LAST-MODIFIED:20260105T210052Z
UID:5917-1790670600-1790960400@cimsoft.com
SUMMARY:AVEVA Application Server
DESCRIPTION:
URL:https://cimsoft.com/webinar/20260929_app_server/
LOCATION:Online\, Canada
CATEGORIES:Training
END:VEVENT
BEGIN:VEVENT
DTSTART;TZID=UTC:20260929T083000
DTEND;TZID=UTC:20261002T170000
DTSTAMP:20260421T165518
CREATED:20260105T221401Z
LAST-MODIFIED:20260105T221401Z
UID:5963-1790670600-1790960400@cimsoft.com
SUMMARY:AVEVA Historian
DESCRIPTION:
URL:https://cimsoft.com/webinar/20260929_historian/
LOCATION:Online\, Canada
CATEGORIES:Training
END:VEVENT
BEGIN:VEVENT
DTSTART;TZID=UTC:20261006T083000
DTEND;TZID=UTC:20261008T170000
DTSTAMP:20260421T165518
CREATED:20260105T223816Z
LAST-MODIFIED:20260105T223816Z
UID:6011-1791275400-1791478800@cimsoft.com
SUMMARY:AVEVA Model-Driven MES
DESCRIPTION:
URL:https://cimsoft.com/webinar/20261006_mes_model_driven/
LOCATION:Online\, Canada
CATEGORIES:Training
END:VEVENT
BEGIN:VEVENT
DTSTART;TZID=UTC:20261006T083000
DTEND;TZID=UTC:20261009T170000
DTSTAMP:20260421T165518
CREATED:20260105T222654Z
LAST-MODIFIED:20260107T201553Z
UID:5987-1791275400-1791565200@cimsoft.com
SUMMARY:InTouch HMI (Standard Edition)
DESCRIPTION:
URL:https://cimsoft.com/webinar/20261006_intouch_hmi/
LOCATION:Online\, Canada
CATEGORIES:Training
END:VEVENT
END:VCALENDAR